BEGIN:VCALENDAR
VERSION:2.0
PRODID:-// - ECPv6.15.11//NONSGML v1.0//EN
CALSCALE:GREGORIAN
METHOD:PUBLISH
X-ORIGINAL-URL:http://www.sbc-fulda.de
X-WR-CALDESC:Veranstaltungen für 
REFRESH-INTERVAL;VALUE=DURATION:PT1H
X-Robots-Tag:noindex
X-PUBLISHED-TTL:PT1H
BEGIN:VTIMEZONE
TZID:Europe/Berlin
BEGIN:DAYLIGHT
TZOFFSETFROM:+0100
TZOFFSETTO:+0200
TZNAME:CEST
DTSTART:20240331T010000
END:DAYLIGHT
BEGIN:STANDARD
TZOFFSETFROM:+0200
TZOFFSETTO:+0100
TZNAME:CET
DTSTART:20241027T010000
END:STANDARD
BEGIN:DAYLIGHT
TZOFFSETFROM:+0100
TZOFFSETTO:+0200
TZNAME:CEST
DTSTART:20250330T010000
END:DAYLIGHT
BEGIN:STANDARD
TZOFFSETFROM:+0200
TZOFFSETTO:+0100
TZNAME:CET
DTSTART:20251026T010000
END:STANDARD
BEGIN:DAYLIGHT
TZOFFSETFROM:+0100
TZOFFSETTO:+0200
TZNAME:CEST
DTSTART:20260329T010000
END:DAYLIGHT
BEGIN:STANDARD
TZOFFSETFROM:+0200
TZOFFSETTO:+0100
TZNAME:CET
DTSTART:20261025T010000
END:STANDARD
END:VTIMEZONE
BEGIN:VEVENT
DTSTART;TZID=Europe/Berlin:20250316T090000
DTEND;TZID=Europe/Berlin:20250316T090000
DTSTAMP:20260419T160125
CREATED:20241126T202331Z
LAST-MODIFIED:20241126T202331Z
UID:5218-1742115600-1742115600@www.sbc-fulda.de
SUMMARY:SBF-Prüfung See
DESCRIPTION:Wiesbaden-Schierstein
URL:http://www.sbc-fulda.de/event/sbf-pruefung-see-3/
END:VEVENT
BEGIN:VEVENT
DTSTART;TZID=Europe/Berlin:20250323T110000
DTEND;TZID=Europe/Berlin:20250323T110000
DTSTAMP:20260419T160125
CREATED:20241126T202222Z
LAST-MODIFIED:20241222T154348Z
UID:5215-1742727600-1742727600@www.sbc-fulda.de
SUMMARY:Jahreshauptversammlung
DESCRIPTION:Restaurant„Rhönblick“\nHauptstraße 24\n36100 Petersberg-Steinau
URL:http://www.sbc-fulda.de/event/jahreshauptversammlung-2/
END:VEVENT
END:VCALENDAR